BEGIN:VCALENDAR
VERSION:2.0
PRODID:-//The Career Lounge - ECPv6.0.3//NONSGML v1.0//EN
CALSCALE:GREGORIAN
METHOD:PUBLISH
X-WR-CALNAME:The Career Lounge
X-ORIGINAL-URL:https://the-careerlounge.com
X-WR-CALDESC:Events for The Career Lounge
REFRESH-INTERVAL;VALUE=DURATION:PT1H
X-Robots-Tag:noindex
X-PUBLISHED-TTL:PT1H
BEGIN:VTIMEZONE
TZID:UTC
BEGIN:STANDARD
TZOFFSETFROM:+0000
TZOFFSETTO:+0000
TZNAME:UTC
DTSTART:20220101T000000
END:STANDARD
END:VTIMEZONE
BEGIN:VEVENT
DTSTART;TZID=UTC:20230223T180000
DTEND;TZID=UTC:20230223T193000
DTSTAMP:20260425T225004
CREATED:20221203T143004Z
LAST-MODIFIED:20230131T150834Z
UID:7816-1677175200-1677180600@the-careerlounge.com
SUMMARY:Make it in Germany: How to land your next Internship in Tech
DESCRIPTION:Are you ready to kick-start your career in the tech industry? Then this event is for you! Come and join us for an exciting and informative evening on how to land your next internship in tech in Germany. You will receive insider knowledge on how to stand out in the application process\, what skills and qualifications are in demand\, and how to navigate the German job market. You’ll have the opportunity to network with other international students and professionals in the field\, who can provide valuable insights and advice. You’ll also have the chance to ask any questions about the internship process and gain a better understanding of the German tech industry. \nIn this training you will learn the following: \n\nHow to write an outstanding internship CV even without work experience\nHow to get your CV past the Applicant Tracking System (ATS)\nAcing the internship  interview\nBonus tip + FREE job-winning CV template) at the end\nAnd much more\n\nRegister here
URL:https://the-careerlounge.com/event/make-it-in-germany-how-to-land-your-next-internship/
LOCATION:Virtual
END:VEVENT
BEGIN:VEVENT
DTSTART;TZID=UTC:20230119T180000
DTEND;TZID=UTC:20230119T193000
DTSTAMP:20260425T225004
CREATED:20221116T115805Z
LAST-MODIFIED:20230109T130142Z
UID:7811-1674151200-1674156600@the-careerlounge.com
SUMMARY:Make it in Germany-Insider tips from a Recruiter that will land you your next job
DESCRIPTION:The job search process can feel daunting. Every step of the process — from finding relevant opportunities to interviewing — is a major time investment. \nBut imagine if you had an expert who can give you first hand insights of what you can really do to secure that dream position. \nThe is event is your chance to do do. You will receive insider information about: \n\nHow to make your CV stand out and actually get it past the robots\nHow to prepare yourself for the job interview and how to stand out from a sea of other candidates\nWhat do recruiters pay attention to when they are selecting someone so that you can apply those things in your job search and interview process\nAt the end you will receive a FREE CV TEMPLATE\n\nRegister here
URL:https://the-careerlounge.com/event/make-it-in-germany-a-recruiters-tips-to-landing-your-next-job/
LOCATION:Virtual
END:VEVENT
BEGIN:VEVENT
DTSTART;TZID=UTC:20221201T180000
DTEND;TZID=UTC:20221201T190000
DTSTAMP:20260425T225004
CREATED:20221103T122900Z
LAST-MODIFIED:20221116T120605Z
UID:7752-1669917600-1669921200@the-careerlounge.com
SUMMARY:Start your career in Consulting
DESCRIPTION:Have you ever wondered how to get into consulting or what you could do as a consultant? \nHere\, you will learn everything you need to know about what consultants do\, how to become a consultant\, and how to gain some insight into the job \nIn this session you will learn about: \n\nWhat a consultant does\nConsultant Qualifications\nWhat does a consultant do?\nConsultant Skills\nTypes of Consultants\nBusiness Consultant Job Outlook\nHow to Become a Consultant\n\nRegister here
URL:https://the-careerlounge.com/event/start-your-career-in-consulting/
LOCATION:Virtual
END:VEVENT
BEGIN:VEVENT
DTSTART;TZID=UTC:20221117T180000
DTEND;TZID=UTC:20221117T193000
DTSTAMP:20260425T225004
CREATED:20221116T105608Z
LAST-MODIFIED:20221116T120716Z
UID:7806-1668708000-1668713400@the-careerlounge.com
SUMMARY:Make it in Germany- Ways to speed up your job search process
DESCRIPTION:You probably know that feeling of sending out your resume\, waiting\, and praying for an email or call? \nYou can’t help but wonder if the hiring manager even saw the job application in the pile of resume they get each week? \nThe reality is\, this strategy isn’t enough anymore. \nThere are steps you can take to speed up your job search process and land more interviews faster. In this training you will learn : \n\nHow to write a outstanding CV even without work experience\nHow get your resume past the Applicant Tracking System (ATS)\nAcing the interview\nBonus tip + FREE job winning CV template) at the end\n\nRegister here
URL:https://the-careerlounge.com/event/make-it-in-germany-ways-to-speed-up-your-job-search-process/
LOCATION:Virtual
END:VEVENT
END:VCALENDAR