BEGIN:VCALENDAR
VERSION:2.0
PRODID:-//The Career Lounge - ECPv6.0.3//NONSGML v1.0//EN
CALSCALE:GREGORIAN
METHOD:PUBLISH
X-ORIGINAL-URL:https://the-careerlounge.com
X-WR-CALDESC:Events for The Career Lounge
REFRESH-INTERVAL;VALUE=DURATION:PT1H
X-Robots-Tag:noindex
X-PUBLISHED-TTL:PT1H
BEGIN:VTIMEZONE
TZID:UTC
BEGIN:STANDARD
TZOFFSETFROM:+0000
TZOFFSETTO:+0000
TZNAME:UTC
DTSTART:20230101T000000
END:STANDARD
END:VTIMEZONE
BEGIN:VEVENT
DTSTART;TZID=UTC:20231005T180000
DTEND;TZID=UTC:20231005T193000
DTSTAMP:20260423T115055
CREATED:20230623T152259Z
LAST-MODIFIED:20230623T152454Z
UID:7985-1696528800-1696534200@the-careerlounge.com
SUMMARY:Nailing the Interview: Proven Techniques to Land Your Dream Job
DESCRIPTION:Are you ready to make a lasting impression and secure your dream job? In today’s competitive job market\, acing the interview is crucial for standing out from the competition and landing the position you’ve always desired \n\nUnderstanding different types of interviews and tailoring your approach accordingly\nPreparing effectively by researching the company\, role\, and interviewers\nDeveloping impactful responses to common interview questions and behavioural scenarios\nDemonstrating confidence\, professionalism\, and effective body language during interviews\nHighlighting your accomplishments\, skills\, and unique selling points\nA real-life example of an interview process using role play technique\n\nAnd much more \nRegister here
URL:https://the-careerlounge.com/event/nailing-the-interview-proven-techniques-to-land-your-dream-job/
END:VEVENT
BEGIN:VEVENT
DTSTART;TZID=UTC:20231102T180000
DTEND;TZID=UTC:20231102T193000
DTSTAMP:20260423T115055
CREATED:20230623T152943Z
LAST-MODIFIED:20230623T153019Z
UID:7988-1698948000-1698953400@the-careerlounge.com
SUMMARY:Make it in Germany: The Ultimate Guide To Landing Your Next Job
DESCRIPTION:Attention international students in Germany! Are you ready to take your career to the next level and land your dream job in Germany? Then you won’t want to miss this workshop. \nThis interactive workshop is packed with expert advice and practical activities that will give you all the tools you need to succeed in the German job market. \nYou’ll get insider tips on how to tailor your resume\, ace your interviews\, and build professional relationships in Germany. Plus\, you’ll have the chance to gain valuable insights that will help you stand out in the competitive job market. \nHere are just a few of the key takeaways you can expect from our workshop: \n\nExpert advice on how to tailor your resume and cover letter for the German job market\nStrategies for building professional relationships in Germany\nTips on how to ace your job interview and make a lasting impression on potential employers\nInsights into the German business culture and how to navigate it as an international student\nPractical advice on how to overcome language barriers and stand out in a diverse pool of candidates.\n\nRegister here
URL:https://the-careerlounge.com/event/make-it-in-germany-the-ultimate-guide-to-landing-your-next-job-2/
END:VEVENT
END:VCALENDAR