BEGIN:VCALENDAR
VERSION:2.0
PRODID:-//The Career Lounge - ECPv6.0.3//NONSGML v1.0//EN
CALSCALE:GREGORIAN
METHOD:PUBLISH
X-WR-CALNAME:The Career Lounge
X-ORIGINAL-URL:https://the-careerlounge.com
X-WR-CALDESC:Events for The Career Lounge
REFRESH-INTERVAL;VALUE=DURATION:PT1H
X-Robots-Tag:noindex
X-PUBLISHED-TTL:PT1H
BEGIN:VTIMEZONE
TZID:UTC
BEGIN:STANDARD
TZOFFSETFROM:+0000
TZOFFSETTO:+0000
TZNAME:UTC
DTSTART:20220101T000000
END:STANDARD
END:VTIMEZONE
BEGIN:VEVENT
DTSTART;TZID=UTC:20221201T180000
DTEND;TZID=UTC:20221201T190000
DTSTAMP:20260425T205536
CREATED:20221103T122900Z
LAST-MODIFIED:20221116T120605Z
UID:7752-1669917600-1669921200@the-careerlounge.com
SUMMARY:Start your career in Consulting
DESCRIPTION:Have you ever wondered how to get into consulting or what you could do as a consultant? \nHere\, you will learn everything you need to know about what consultants do\, how to become a consultant\, and how to gain some insight into the job \nIn this session you will learn about: \n\nWhat a consultant does\nConsultant Qualifications\nWhat does a consultant do?\nConsultant Skills\nTypes of Consultants\nBusiness Consultant Job Outlook\nHow to Become a Consultant\n\nRegister here
URL:https://the-careerlounge.com/event/start-your-career-in-consulting/
LOCATION:Virtual
END:VEVENT
END:VCALENDAR